BEGIN:VCALENDAR
VERSION:2.0
PRODID:-//SG Gaselan - ECPv6.15.14//NONSGML v1.0//EN
CALSCALE:GREGORIAN
METHOD:PUBLISH
X-ORIGINAL-URL:https://sg-gaselan.de
X-WR-CALDESC:Veranstaltungen für SG Gaselan
REFRESH-INTERVAL;VALUE=DURATION:PT1H
X-Robots-Tag:noindex
X-PUBLISHED-TTL:PT1H
BEGIN:VTIMEZONE
TZID:Europe/Berlin
BEGIN:DAYLIGHT
TZOFFSETFROM:+0100
TZOFFSETTO:+0200
TZNAME:CEST
DTSTART:20240331T010000
END:DAYLIGHT
BEGIN:STANDARD
TZOFFSETFROM:+0200
TZOFFSETTO:+0100
TZNAME:CET
DTSTART:20241027T010000
END:STANDARD
BEGIN:DAYLIGHT
TZOFFSETFROM:+0100
TZOFFSETTO:+0200
TZNAME:CEST
DTSTART:20250330T010000
END:DAYLIGHT
BEGIN:STANDARD
TZOFFSETFROM:+0200
TZOFFSETTO:+0100
TZNAME:CET
DTSTART:20251026T010000
END:STANDARD
BEGIN:DAYLIGHT
TZOFFSETFROM:+0100
TZOFFSETTO:+0200
TZNAME:CEST
DTSTART:20260329T010000
END:DAYLIGHT
BEGIN:STANDARD
TZOFFSETFROM:+0200
TZOFFSETTO:+0100
TZNAME:CET
DTSTART:20261025T010000
END:STANDARD
END:VTIMEZONE
BEGIN:VEVENT
DTSTART;VALUE=DATE:20250328
DTEND;VALUE=DATE:20250331
DTSTAMP:20260422T023403
CREATED:20250325T100047Z
LAST-MODIFIED:20250326T121708Z
UID:2368-1743120000-1743379199@sg-gaselan.de
SUMMARY:Bergtest bei Stadt Wehlen / Sächsische Schweiz [Wandern]
DESCRIPTION:Wanderung auf markierten Strecken.\nWanderstrecken: 10km\, 14km\, 22km\, 25km\, 29km\, 37km
URL:https://sg-gaselan.de/event/bergtest-bei-stadt-wehlen-saechsische-schweiz/
LOCATION:Bergtest bei Stadt Wehlen / Sächsische Schweiz\, Am Bahnhof\, Wehen\, Germany
CATEGORIES:Wandern
END:VEVENT
END:VCALENDAR