BEGIN:VCALENDAR
VERSION:2.0
PRODID:-//SG Gaselan - ECPv6.15.14//NONSGML v1.0//EN
CALSCALE:GREGORIAN
METHOD:PUBLISH
X-WR-CALNAME:SG Gaselan
X-ORIGINAL-URL:https://sg-gaselan.de
X-WR-CALDESC:Veranstaltungen für SG Gaselan
REFRESH-INTERVAL;VALUE=DURATION:PT1H
X-Robots-Tag:noindex
X-PUBLISHED-TTL:PT1H
BEGIN:VTIMEZONE
TZID:Europe/Berlin
BEGIN:DAYLIGHT
TZOFFSETFROM:+0100
TZOFFSETTO:+0200
TZNAME:CEST
DTSTART:20240331T010000
END:DAYLIGHT
BEGIN:STANDARD
TZOFFSETFROM:+0200
TZOFFSETTO:+0100
TZNAME:CET
DTSTART:20241027T010000
END:STANDARD
BEGIN:DAYLIGHT
TZOFFSETFROM:+0100
TZOFFSETTO:+0200
TZNAME:CEST
DTSTART:20250330T010000
END:DAYLIGHT
BEGIN:STANDARD
TZOFFSETFROM:+0200
TZOFFSETTO:+0100
TZNAME:CET
DTSTART:20251026T010000
END:STANDARD
BEGIN:DAYLIGHT
TZOFFSETFROM:+0100
TZOFFSETTO:+0200
TZNAME:CEST
DTSTART:20260329T010000
END:DAYLIGHT
BEGIN:STANDARD
TZOFFSETFROM:+0200
TZOFFSETTO:+0100
TZNAME:CET
DTSTART:20261025T010000
END:STANDARD
END:VTIMEZONE
BEGIN:VEVENT
DTSTART;TZID=Europe/Berlin:20250412T090000
DTEND;TZID=Europe/Berlin:20250412T110000
DTSTAMP:20260422T010213
CREATED:20250325T104205Z
LAST-MODIFIED:20250326T121652Z
UID:2373-1744448400-1744455600@sg-gaselan.de
SUMMARY:Rund um den Maxsee [Wandern]
DESCRIPTION:Strecke: Hoppegarten bei Müncheberg – Seerundweg Maxsee – Hoppegarten\nEntfernung: ca. 10 km\nTreffpunkt: Parkplatz hinter Rossman (Bahnhof)\nWanderleitung: Armin Reich
URL:https://sg-gaselan.de/event/rund-um-den-maxsee/
LOCATION:Hoppegarten\, Hoppegarten\, Germany
CATEGORIES:Wandern
END:VEVENT
END:VCALENDAR