BEGIN:VCALENDAR
VERSION:2.0
PRODID:-//SG Gaselan - ECPv6.15.14//NONSGML v1.0//EN
CALSCALE:GREGORIAN
METHOD:PUBLISH
X-WR-CALNAME:SG Gaselan
X-ORIGINAL-URL:https://sg-gaselan.de
X-WR-CALDESC:Veranstaltungen für SG Gaselan
REFRESH-INTERVAL;VALUE=DURATION:PT1H
X-Robots-Tag:noindex
X-PUBLISHED-TTL:PT1H
BEGIN:VTIMEZONE
TZID:Europe/Berlin
BEGIN:DAYLIGHT
TZOFFSETFROM:+0100
TZOFFSETTO:+0200
TZNAME:CEST
DTSTART:20240331T010000
END:DAYLIGHT
BEGIN:STANDARD
TZOFFSETFROM:+0200
TZOFFSETTO:+0100
TZNAME:CET
DTSTART:20241027T010000
END:STANDARD
BEGIN:DAYLIGHT
TZOFFSETFROM:+0100
TZOFFSETTO:+0200
TZNAME:CEST
DTSTART:20250330T010000
END:DAYLIGHT
BEGIN:STANDARD
TZOFFSETFROM:+0200
TZOFFSETTO:+0100
TZNAME:CET
DTSTART:20251026T010000
END:STANDARD
BEGIN:DAYLIGHT
TZOFFSETFROM:+0100
TZOFFSETTO:+0200
TZNAME:CEST
DTSTART:20260329T010000
END:DAYLIGHT
BEGIN:STANDARD
TZOFFSETFROM:+0200
TZOFFSETTO:+0100
TZNAME:CET
DTSTART:20261025T010000
END:STANDARD
END:VTIMEZONE
BEGIN:VEVENT
DTSTART;TZID=Europe/Berlin:20250405T083000
DTEND;TZID=Europe/Berlin:20250405T183000
DTSTAMP:20260421T233824
CREATED:20250325T140930Z
LAST-MODIFIED:20250326T121635Z
UID:2380-1743841800-1743877800@sg-gaselan.de
SUMMARY:2. Fürstenwalder Mammoths Bowl [Flag Football]
DESCRIPTION:Am 5. April ist es wieder soweit!\nNach etwa 1 1/2-jährigem Vereinsbestehen laden wir zu unserem 2. Fürstenwalder Mammoths Bowl ein.\nDer Eintritt ist frei und jede/r ist willkommen.\nNutzt den Samstag gerne\, um uns und unseren Verein sowie die Sportart kennen zu lernen.\nWas ist Flag Football?\nFlag Football ist die harmlose Variante des American Football. Diese wird ohne Schutzausrüstung\, allerdings auch ohne Körperkontakt gespielt.\nUnsere Mannschaften der Altersklassen U10\, U13 und der U16 sind bereits heiß darauf\, sich wieder mit mehreren Teams an einem Tag messen zu dürfen.\nDie Herde freut sich über ein volles Stadion!\nSpielzeiten\nU10 (ca. 8:30-12:30 Uhr)\nU13 (ca. 9:30-14:30 Uhr)\nU16 (ca. 12:30-18:30 Uhr)\nEssen und Getränke können auf dem Vereinsgelände erworben werden.\nWir freuen uns auf euch\, eine größtmögliche Unterstützung und natürlich unsere Gäste der:\n– Erkner Razorbacks\n– Cottbus Crayfish\n– Staaken Bats\n– Berlin Bullets\n– Spandau Bulldogs\n– Fighting Frogs Hoppegarten\n– Frankfurt (Oder) Red Cocks\nFootball is Family!
URL:https://sg-gaselan.de/event/2-mammothbowl/
LOCATION:Rudolf Harbig Stadion\, Karl-Liebknecht-Strasse 20\, Fürstenwalde\, 15517\, Germany
CATEGORIES:Flagfootball
ORGANIZER;CN="SG Gaselan F%C3%BCrstenwalde e.V.":MAILTO:info@sg-gaselan.de
END:VEVENT
BEGIN:VEVENT
DTSTART;TZID=Europe/Berlin:20250412T090000
DTEND;TZID=Europe/Berlin:20250412T110000
DTSTAMP:20260421T233824
CREATED:20250325T104205Z
LAST-MODIFIED:20250326T121652Z
UID:2373-1744448400-1744455600@sg-gaselan.de
SUMMARY:Rund um den Maxsee [Wandern]
DESCRIPTION:Strecke: Hoppegarten bei Müncheberg – Seerundweg Maxsee – Hoppegarten\nEntfernung: ca. 10 km\nTreffpunkt: Parkplatz hinter Rossman (Bahnhof)\nWanderleitung: Armin Reich
URL:https://sg-gaselan.de/event/rund-um-den-maxsee/
LOCATION:Hoppegarten\, Hoppegarten\, Germany
CATEGORIES:Wandern
END:VEVENT
BEGIN:VEVENT
DTSTART;TZID=Europe/Berlin:20250426T090000
DTEND;TZID=Europe/Berlin:20250426T160000
DTSTAMP:20260421T233824
CREATED:20250326T121925Z
LAST-MODIFIED:20250326T121925Z
UID:2391-1745658000-1745683200@sg-gaselan.de
SUMMARY:Sportplatzputz
DESCRIPTION:Am 26. April 2025 trifft sich die Sportgemeinschaft Gaselan Fürstenwalde e. V. zum jährlichen „Frühjahresputz“. Dabei freuen wir uns über jede helfende Hand\, um unser Vereinsgelände wieder „strahlen“ zu lassen. \nMeldet euch gerne über eure Abteilungsleiter an\, damit wir auch für eure Verpflegung sorgen können. \nDer Vorstand
URL:https://sg-gaselan.de/event/sportplatzputz/
LOCATION:Rudolf Harbig Stadion\, Karl-Liebknecht-Strasse 20\, Fürstenwalde\, 15517\, Germany
ORGANIZER;CN="SG Gaselan F%C3%BCrstenwalde e.V.":MAILTO:info@sg-gaselan.de
END:VEVENT
END:VCALENDAR