BEGIN:VCALENDAR
VERSION:2.0
PRODID:-//SG Gaselan - ECPv6.15.14//NONSGML v1.0//EN
CALSCALE:GREGORIAN
METHOD:PUBLISH
X-WR-CALNAME:SG Gaselan
X-ORIGINAL-URL:https://sg-gaselan.de
X-WR-CALDESC:Veranstaltungen für SG Gaselan
REFRESH-INTERVAL;VALUE=DURATION:PT1H
X-Robots-Tag:noindex
X-PUBLISHED-TTL:PT1H
BEGIN:VTIMEZONE
TZID:Europe/Berlin
BEGIN:DAYLIGHT
TZOFFSETFROM:+0100
TZOFFSETTO:+0200
TZNAME:CEST
DTSTART:20240331T010000
END:DAYLIGHT
BEGIN:STANDARD
TZOFFSETFROM:+0200
TZOFFSETTO:+0100
TZNAME:CET
DTSTART:20241027T010000
END:STANDARD
BEGIN:DAYLIGHT
TZOFFSETFROM:+0100
TZOFFSETTO:+0200
TZNAME:CEST
DTSTART:20250330T010000
END:DAYLIGHT
BEGIN:STANDARD
TZOFFSETFROM:+0200
TZOFFSETTO:+0100
TZNAME:CET
DTSTART:20251026T010000
END:STANDARD
BEGIN:DAYLIGHT
TZOFFSETFROM:+0100
TZOFFSETTO:+0200
TZNAME:CEST
DTSTART:20260329T010000
END:DAYLIGHT
BEGIN:STANDARD
TZOFFSETFROM:+0200
TZOFFSETTO:+0100
TZNAME:CET
DTSTART:20261025T010000
END:STANDARD
END:VTIMEZONE
BEGIN:VEVENT
DTSTART;TZID=Europe/Berlin:20250614T090000
DTEND;TZID=Europe/Berlin:20250614T170000
DTSTAMP:20260421T203625
CREATED:20250407T173730Z
LAST-MODIFIED:20250407T173842Z
UID:2432-1749891600-1749920400@sg-gaselan.de
SUMMARY:6. Gaselan Pokal
DESCRIPTION:
URL:https://sg-gaselan.de/event/6-gaselan-pokal/
LOCATION:Rudolf Harbig Stadion\, Karl-Liebknecht-Strasse 20\, Fürstenwalde\, 15517\, Germany
ORGANIZER;CN="SG Gaselan F%C3%BCrstenwalde e.V.":MAILTO:info@sg-gaselan.de
END:VEVENT
END:VCALENDAR